
BEGIN:VCALENDAR
VERSION:2.0
PRODID:-//Endeavor Miami - ECPv6.2.0.1//NONSGML v1.0//EN
CALSCALE:GREGORIAN
METHOD:PUBLISH
X-ORIGINAL-URL:https://endeavormiami.org
X-WR-CALDESC:Events for Endeavor Miami
REFRESH-INTERVAL;VALUE=DURATION:PT1H
X-Robots-Tag:noindex
X-PUBLISHED-TTL:PT1H
BEGIN:VTIMEZONE
TZID:UTC
BEGIN:STANDARD
TZOFFSETFROM:+0000
TZOFFSETTO:+0000
TZNAME:UTC
DTSTART:20240101T000000
END:STANDARD
END:VTIMEZONE
BEGIN:VEVENT
DTSTART;TZID=UTC:20240613T093000
DTEND;TZID=UTC:20240613T110000
DTSTAMP:20260425T235734
CREATED:20240530T182332Z
LAST-MODIFIED:20240604T172037Z
UID:7089-1718271000-1718276400@endeavormiami.org
SUMMARY:Miami Tech Talent Coalition Meeting
DESCRIPTION:COMMUNITY EVENT \nJoin us for the eighth in-person Miami Tech Talent Coalition meeting! We invite all employers\, academic institutions\, training providers\, and community partners to join us as we continue to work together to track 1\,000 participants and place 500+ in full time jobs! \nWhat to Expect:\nDuring this collaborative event\, you’ll have the opportunity to engage in discussion with industry leaders and gain valuable insights from the coalition’s working group chairs and partners. \nWhy You Should Attend:\nSouth Florida’s tech job market has experienced rapid growth\, and now is the time to leverage this momentum. By joining the Miami Tech Talent Coalition\, you’ll become an integral part of the region’s thriving tech ecosystem. As an employer\, your active involvement in coalition meetings will ensure that academic programs align with industry needs\, providing you with a direct pipeline to top tech talent. You’ll have the opportunity to engage with decision-makers\, C-level executives\, academic institutions\, training providers\, and passionate individuals dedicated to Miami’s tech talent development. \nMore About The Miami Tech Talent Coalition:\nThe Miami Tech Talent Coalition is powered by Miami Tech Works\, a $10-million grant awarded by the Good Jobs Challenge initiative from the Economic Development Administration. We are proud to have the support of esteemed founding organizations\, including Miami-Dade County\, City of Miami\, Miami-Dade Beacon Council\, Refresh Miami\, Miami Dade College\, Florida International University\, OIC of South Florida\, Florida Memorial University\, and CareerSource South Florida. \n 
URL:https://endeavormiami.org/event/miami-tech-talent-coalition-meeting/
LOCATION:Slalom Consulting\, 545 NW 26th St #300\, Miami\, FL\, 33127\, United States
END:VEVENT
END:VCALENDAR