
BEGIN:VCALENDAR
VERSION:2.0
PRODID:-//Endeavor Miami - ECPv6.2.0.1//NONSGML v1.0//EN
CALSCALE:GREGORIAN
METHOD:PUBLISH
X-ORIGINAL-URL:https://endeavormiami.org
X-WR-CALDESC:Events for Endeavor Miami
REFRESH-INTERVAL;VALUE=DURATION:PT1H
X-Robots-Tag:noindex
X-PUBLISHED-TTL:PT1H
BEGIN:VTIMEZONE
TZID:UTC
BEGIN:STANDARD
TZOFFSETFROM:+0000
TZOFFSETTO:+0000
TZNAME:UTC
DTSTART:20240101T000000
END:STANDARD
END:VTIMEZONE
BEGIN:VEVENT
DTSTART;TZID=UTC:20240702T180000
DTEND;TZID=UTC:20240702T210000
DTSTAMP:20260424T180005
CREATED:20240530T144856Z
LAST-MODIFIED:20240530T145839Z
UID:7069-1719943200-1719954000@endeavormiami.org
SUMMARY:South Miami Tech Tuesdays – presented by Purple Horizons
DESCRIPTION:Gear up for a tech-tastic time at South Miami’s Tech Tuesday! Hosted by the unbeatable team at Purple Horizons\, Ralph Quintero and Gianni D’Alerta \, we’re shaking up Miami’s tech scene down south. Join us for an electrifying evening of networking\, tech chatter\, and good times in the heart of South Miami. The action starts at 6:00 PM and rolls on until 9:00 PM\, with a splash of karaoke at 10pm! \n​​Bougainvillea’s charming atmosphere is the ultimate backdrop for mingling with Miami’s tech crowd. Whether you’re a tech guru or just tech-curious\, Bougie’s Tech Tuesday is your hotspot. Come grab a drink\, savor the bites\, and dive into tech talk! \n​​We’re jazzing things up at Bougainvillea’s Old Florida Tavern in South Miami\, where you’ll be treated to something extra special. Big thanks to our sponsor Blue Keys – “Your Network Unlocked” – for serving up tasty Cuban small bites from their partner\, Sergios Restaurants. \n​​Special thanks to our our community partners\, Lab22c\, Refresh Miami and Columbus Connects – specifically\, the tech and innovation gurus from CCHS Technology and Innovations Professionals. They’re joining forces with us to bring you an even more dynamic experience. \n​​Remember\, Bougie’s Tech Tuesday is a monthly bash\, happening every first Tuesday. Circle those dates! \n\nCommunity Event
URL:https://endeavormiami.org/event/south-miami-tech-tuesdays-presented-by-purple-horizons-2/
LOCATION:Bougainvillea’s Old Florida Tavern\, 7221 SW 58th Ave\, South Miami\, FL\, 33143\, United States
ORGANIZER;CN="Purple%20Horizons":MAILTO:https://refreshmiami.com/organizer/purple-horizons/
END:VEVENT
BEGIN:VEVENT
DTSTART;TZID=UTC:20240702T180000
DTEND;TZID=UTC:20240702T210000
DTSTAMP:20260424T180005
CREATED:20240702T163411Z
LAST-MODIFIED:20240702T174600Z
UID:8043-1719943200-1719954000@endeavormiami.org
SUMMARY:South Miami Tech Tuesdays – presented by Purple Horizons
DESCRIPTION:Community Event \nGear up for a tech-tastic time at South Miami’s Tech Tuesday! Hosted by the unbeatable team at Purple Horizons\, Ralph Quintero and Gianni D’Alerta \, we’re shaking up Miami’s tech scene down south. Join us for an electrifying evening of networking\, tech chatter\, and good times in the heart of South Miami. The action starts at 6:00 PM and rolls on until 9:00 PM\, with a splash of karaoke at 10pm! \n​​Bougainvillea’s charming atmosphere is the ultimate backdrop for mingling with Miami’s tech crowd. Whether you’re a tech guru or just tech-curious\, Bougie’s Tech Tuesday is your hotspot. Come grab a drink\, savor the bites\, and dive into tech talk! \n​​We’re jazzing things up at Bougainvillea’s Old Florida Tavern in South Miami\, where you’ll be treated to something extra special. Big thanks to our sponsor Blue Keys – “Your Network Unlocked” – for serving up tasty Cuban small bites from their partner\, Sergios Restaurants. \n​​Special thanks to our our community partners\, Lab22c\, Refresh Miami and Columbus Connects – specifically\, the tech and innovation gurus from CCHS Technology and Innovations Professionals. They’re joining forces with us to bring you an even more dynamic experience. \n​​Remember\, Bougie’s Tech Tuesday is a monthly bash\, happening every first Tuesday. Circle those dates!
URL:https://endeavormiami.org/event/south-miami-tech-tuesdays-presented-by-purple-horizons-3/
LOCATION:Bougainvillea’s Old Florida Tavern\, 7221 SW 58th Ave\, South Miami\, FL\, 33143\, United States
END:VEVENT
END:VCALENDAR