
BEGIN:VCALENDAR
VERSION:2.0
PRODID:-//Endeavor Miami - ECPv6.2.0.1//NONSGML v1.0//EN
CALSCALE:GREGORIAN
METHOD:PUBLISH
X-WR-CALNAME:Endeavor Miami
X-ORIGINAL-URL:https://endeavormiami.org
X-WR-CALDESC:Events for Endeavor Miami
REFRESH-INTERVAL;VALUE=DURATION:PT1H
X-Robots-Tag:noindex
X-PUBLISHED-TTL:PT1H
BEGIN:VTIMEZONE
TZID:UTC
BEGIN:STANDARD
TZOFFSETFROM:+0000
TZOFFSETTO:+0000
TZNAME:UTC
DTSTART:20240101T000000
END:STANDARD
END:VTIMEZONE
BEGIN:VEVENT
DTSTART;TZID=UTC:20240709T080000
DTEND;TZID=UTC:20240709T100000
DTSTAMP:20260424T175724
CREATED:20240702T162455Z
LAST-MODIFIED:20240702T174347Z
UID:8035-1720512000-1720519200@endeavormiami.org
SUMMARY:South Florida Tech Breakfast: hosted by LOVC\, Ocean Azul\, & GP
DESCRIPTION:  \n  \n \nCommunity Event \nWe’re excited to invite you to the July South Florida Tech Community $1MM Breakfast\, co-hosted by Las Olas Venture Capital (LOVC)\, Ocean Azul Partners\, Rodolfo Novarini\, and General Provision (GP). This event is tailored for proven tech entrepreneurs and active investors shaping the future of technology and software development in South Florida and beyond. \n​​​Who Should Attend: \n​​​Proven Tech Entrepreneurs: Those who have achieved over $1MM in annual revenue or raised over $1MM in outside capital. \n​​​Investors: Those who have made five or more high-growth tech investments in the past 24 months. \n​​​What to Expect: \n​​​☕ Coffee & 🥞 Breakfast: \n​​​Begin your day with breakfast and coffee while having meaningful and insightful conversations\, making new connections\, and strengthening current ones. \n​​​RSVP: \n​​RSVP now to secure your spot\, apply to join\, and answer the required questions. \n​​We look forward to hosting you and facilitating meaningful connections. \n​​​LOVC is an early-stage venture capital firm investing exclusively in B2B SaaS and enterprise software companies. Founded in 2016 by former entrepreneurs\, LOVC is now investing out of its $50M Fund II and typically leads $3-7M rounds with $1.5-3.5M checks. As active lead investors with a concentrated early-stage portfolio\, the firm provides tailored strategic and operational support to their founders and connects them to their capital\, talent\, and customer networks. LOVC employs a low-frequency\, high-conviction investment approach and backs founders with asymmetrical industry insight and expertise. \n​ \n​ \n​​Ocean Azul Partners is a venture capital firm dedicated to forging partnerships with visionary entrepreneurs during the seed and early stages of their company’s development. The firm’s approach is deeply rooted in the conviction that robust partnerships between investors and founders are crucial for a venture’s success. Comprising a team of experienced operators and investors\, Ocean Azul Partners brings extensive expertise in navigating the challenges of scaling startups. The firm is committed to supporting its entrepreneurs through every phase of their growth journey\, leveraging its collective knowledge to surmount challenges and celebrating achievements together. \n  \n​
URL:https://endeavormiami.org/event/south-florida-tech-breakfast-hosted-by-lovc-ocean-azul-gp-2/
LOCATION:General Provision Downtown\, 300 SW 1st Ave #155\, Fort Lauderdale\, FL\, 33301\, United States
END:VEVENT
BEGIN:VEVENT
DTSTART;TZID=UTC:20240709T180000
DTEND;TZID=UTC:20240709T193000
DTSTAMP:20260424T175724
CREATED:20240702T165908Z
LAST-MODIFIED:20240702T175143Z
UID:8062-1720548000-1720553400@endeavormiami.org
SUMMARY:AI Speaker Series 02
DESCRIPTION:Community Event \nEmbark on a journey of discovery at our 2nd AI Speaker Series event where we delve into the boundless potential of AI and digital innovations. \n​Join us for an enlightening talk led by renowned keynote speaker Roy E. Lowrance\, the visionary Founder and CEO of Applied Data Science. With his expertise as a co-designer of NYU’s prestigious data science program and trusted advisor to esteemed firms such as Blumberg Capital\, Lowrance unveils a compelling framework to navigate and excel in the ever-evolving landscape of an AI-driven era. \n​Don’t miss this opportunity to gain invaluable insights and empower yourself for success in the digital age! \n 
URL:https://endeavormiami.org/event/ai-speaker-series-02/
LOCATION:Miami Dade College – West Campus\, 3800 Northwest 115th Avenue\, Doral\, FL\, 33178\, United States
END:VEVENT
BEGIN:VEVENT
DTSTART;TZID=UTC:20240709T180000
DTEND;TZID=UTC:20240709T210000
DTSTAMP:20260424T175724
CREATED:20240619T192451Z
LAST-MODIFIED:20240702T174431Z
UID:7651-1720548000-1720558800@endeavormiami.org
SUMMARY:Fort Lauderdale Tech Meetup
DESCRIPTION:Community Event \nA happy hour open to startup founders\, investors and tech leaders. Join us for drinks and networking in Fort Lauderdale. \n  \nThe Fort Lauderdale Tech Meetup is a monthly happy hour for the tech community. The objective is to gather everyone in tech to network\, have a drink and support each other’s work. This is a great time to practice your pitch\, find a partner\, investors\, employees or a new mentor. \n\nThe bar sells drinks and food with a happy hour menu until 7pm – each guest pays for their own.\n\n\nBy attending\, participants also acknowledge and grant permission for the use of photos and videos they may appear in for promotional material by the organizers or sponsors.\n\n\nBy attending the event\, the registrant agrees to abide by our code of conduct.\n\nPlease reach out if you have any questions\, see you there! \n 
URL:https://endeavormiami.org/event/fort-lauderdale-tech-meetup-5/
END:VEVENT
BEGIN:VEVENT
DTSTART;TZID=UTC:20240709T180000
DTEND;TZID=UTC:20240709T210000
DTSTAMP:20260424T175724
CREATED:20240702T162959Z
LAST-MODIFIED:20240702T162959Z
UID:8037-1720548000-1720558800@endeavormiami.org
SUMMARY:Fort Lauderdale Tech Meetup
DESCRIPTION:The Fort Lauderdale Tech Meetup is a monthly happy hour for the tech community. The objective is to gather everyone in tech to network\, have a drink and support each other’s work. This is a great time to practice your pitch\, find a partner\, investors\, employees or a new mentor. \n\nThe bar sells drinks and food with a happy hour menu until 7pm.\n\n\nBy attending\, participants also acknowledge and grant permission for the use of photos and videos they may appear in for promotional material by the organizers or sponsors.\n\n\nBy attending the event\, the registrant agrees to abide by our code of conduct.\n\nPlease reach out if you have any questions email us: hello[at]foundertactics[.]com\nSee you there! \n– Julia Lucidi\nHost and Founder \nThank you to our Sponsors! \nVULTR is the world’s largest privately-held independent cloud infrastructure provider. Vultr is on a mission to make high-performance cloud computing easy to use\, affordable\, and locally accessible for businesses and developers around the world. An Elite Partner of NVIDIA\, Vultr also provides a full-range of NVIDIA GPU and cloud services to support demanding AI/ML workloads. Learn more about their Digital Start-up Program. \nConnectd is the leading community network that connects entrepreneurs and startups with portfolio professionals and investors to secure growth opportunities. Connectd’s innovative technology helps organizations and individuals find each other through a data-driven approach and cutting out the middlemen in the investment cycle. \nThe Venue: Flow Fort Lauderdale (formerly Society Las Olas)\nFlow Fort Lauderdale fosters a vibrant community where you can connect deeply with yourself\, your neighbors\, and nature. Their modern living spaces offer more than just apartments; they include coworking areas\, wellness facilities\, and a diverse lineup of events\, all designed to enhance your lifestyle and broaden your connections. \nThe Fort Lauderdale Tech Meetup is brought to you by Founder Tactics: Curating events and content that accelerate growth in innovation communities. \nCommunity Event \n 
URL:https://endeavormiami.org/event/fort-lauderdale-tech-meetup-6/
LOCATION:Flow Fort Lauderdale\, 301 Southwest 1st Avenue\, Fort Lauderdale\, FL\, 33301\, United States
END:VEVENT
BEGIN:VEVENT
DTSTART;TZID=UTC:20240709T190000
DTEND;TZID=UTC:20240709T210000
DTSTAMP:20260424T175724
CREATED:20240702T165001Z
LAST-MODIFIED:20240702T174951Z
UID:8055-1720551600-1720558800@endeavormiami.org
SUMMARY:Web3 Miami Meetup by bd3.xyz
DESCRIPTION:Community Event \n​Join us for the best Web3 Meetup in Miami with rooftop views at the CitizenM Hotel in Brickell. \n​This event is for anyone interested\, curious\, or already working on the front lines of crypto and blockchain. \n​——- \n​This event is hosted by BD3\, an invite only network where hundreds of go to market crypto professionals discuss sales\, marketing\, and product strategies in the constantly evolving landscape of Go to Market in Web3. \n 
URL:https://endeavormiami.org/event/web3-miami-meetup-by-bd3-xyz/
LOCATION:Citizen M Brickell\, 11 Southeast 10th Street Miami\, Miami\, FL\, 33130\, United States
END:VEVENT
END:VCALENDAR