
BEGIN:VCALENDAR
VERSION:2.0
PRODID:-//Endeavor Miami - ECPv6.2.0.1//NONSGML v1.0//EN
CALSCALE:GREGORIAN
METHOD:PUBLISH
X-WR-CALNAME:Endeavor Miami
X-ORIGINAL-URL:https://endeavormiami.org
X-WR-CALDESC:Events for Endeavor Miami
REFRESH-INTERVAL;VALUE=DURATION:PT1H
X-Robots-Tag:noindex
X-PUBLISHED-TTL:PT1H
BEGIN:VTIMEZONE
TZID:UTC
BEGIN:STANDARD
TZOFFSETFROM:+0000
TZOFFSETTO:+0000
TZNAME:UTC
DTSTART:20240101T000000
END:STANDARD
END:VTIMEZONE
BEGIN:VEVENT
DTSTART;TZID=UTC:20240828T180000
DTEND;TZID=UTC:20240828T203000
DTSTAMP:20260424T193913
CREATED:20240826T191108Z
LAST-MODIFIED:20240826T191108Z
UID:9363-1724868000-1724877000@endeavormiami.org
SUMMARY:AI and Money: Can Fintech truly embrace AI?
DESCRIPTION:Join Miami Fintech Club\, in partnership with eMerge Americas\, on August 28 for an exciting evening dedicated to exploring the transformative power of AI in the fintech industry. We will delve into the future of financial technology with industry leaders and experts who will share their insights on the latest advancements and trends in AI. \n​The event will feature a fireside chat with key speakers who will discuss how AI is reshaping the financial landscape\, improving efficiency\, enhancing customer experience\, and driving innovation. \n​Don’t miss this opportunity to network with professionals\, engage in thought-provoking conversations\, and discover the future of fintech.
URL:https://endeavormiami.org/event/ai-and-money-can-fintech-truly-embrace-ai/
LOCATION:Miami Dade College\, 300 NE 2nd Ave - AI Center\, Miami\, FL\, 33132\, United States
END:VEVENT
END:VCALENDAR