
BEGIN:VCALENDAR
VERSION:2.0
PRODID:-//Endeavor Miami - ECPv6.2.0.1//NONSGML v1.0//EN
CALSCALE:GREGORIAN
METHOD:PUBLISH
X-WR-CALNAME:Endeavor Miami
X-ORIGINAL-URL:https://endeavormiami.org
X-WR-CALDESC:Events for Endeavor Miami
REFRESH-INTERVAL;VALUE=DURATION:PT1H
X-Robots-Tag:noindex
X-PUBLISHED-TTL:PT1H
BEGIN:VTIMEZONE
TZID:UTC
BEGIN:STANDARD
TZOFFSETFROM:+0000
TZOFFSETTO:+0000
TZNAME:UTC
DTSTART:20240101T000000
END:STANDARD
END:VTIMEZONE
BEGIN:VEVENT
DTSTART;TZID=UTC:20241105T180000
DTEND;TZID=UTC:20241105T200000
DTSTAMP:20260424T085632
CREATED:20240726T201846Z
LAST-MODIFIED:20240726T201846Z
UID:8720-1730829600-1730836800@endeavormiami.org
SUMMARY:Fort Lauderdale Tech Meetup
DESCRIPTION:COMMUNITY EVENT \nA happy hour open to startup founders\, investors and tech leaders. Join us for drinks and networking in Fort Lauderdale. \n  \nThe Fort Lauderdale Tech Meetup is a monthly happy hour for the tech community. The objective is to gather everyone in tech to network\, have a drink and support each other’s work. This is a great time to practice your pitch\, find a partner\, investors\, employees or a new mentor. \n\nThe bar sells drinks and food with a happy hour menu until 7pm – each guest pays for their own.\n\n\nBy attending\, participants also acknowledge and grant permission for the use of photos and videos they may appear in for promotional material by the organizers or sponsors.\n\n\nBy attending the event\, the registrant agrees to abide by our code of conduct.\n\nPlease reach out if you have any questions\, see you there! \n– Julia Lucidi \nThe Fort Lauderdale Tech Meetup is brought to you by\nFounder Tactics: Curating events and content that accelerate growth in tech communities
URL:https://endeavormiami.org/event/fort-lauderdale-tech-meetup-7/
LOCATION:Flow Fort Lauderdale\, 301 Southwest 1st Avenue\, Fort Lauderdale\, FL\, 33301\, United States
END:VEVENT
BEGIN:VEVENT
DTSTART;TZID=UTC:20241105T180000
DTEND;TZID=UTC:20241105T213000
DTSTAMP:20260424T085632
CREATED:20241028T213353Z
LAST-MODIFIED:20241028T213353Z
UID:11076-1730829600-1730842200@endeavormiami.org
SUMMARY:Harmony Meets Code: A Journey into AI Music
DESCRIPTION:COMMUNITY EVENT \n  \n🎙️ Join GPTuesdays for an immersive musical journey titled “Harmony Meets Code: A Journey into AI Music” with Itai Leibowitz\, Founder\, Product Leader\, Ex-Google\, Ex-Meta\, Ex-McKinsey! 🎶 \n​🎟 Register Here (Limited Tickets!): https://lu.ma/9fx4cir9 \n​💥 Ever wondered how AI can compose\, remix\, and even collaborate with big names like Timbaland? 🎧 In this special session\, participants will discover the magic of AI-powered music! Led by AI entrepreneur and award-winning AI artist Itai Leibowitz\, we’ll dive deep into Suno\, a tool that’s transforming creativity for artists and music lovers alike. 🎸✨ \n​🧠 Together\, we’ll experiment with prompts\, remix songs live\, and even create a unique crowd-sourced track with YOUR ideas! This musical night will explore the future of music\, touching on everything from technical insights to the evolving landscape of AI and creativity—plus\, we’ll discuss copyright and creative challenges and encourage live discussion. Get ready to vibe\, create\, and see AI-powered music in action! 🎶🚀 \n​👤 Itai Leibowitz: \n​Itai (AKA I+AI) is a musician\, product leader\, and the winner of the grand prize in Suno AI’s $25k Flosstradamus Remix Challenge. Besides using AI to build products and businesses\, he loves the creative wings that AI can give us—to draw\, to write code or novels\, or to make beautiful music.
URL:https://endeavormiami.org/event/harmony-meets-code-a-journey-into-ai-music/
LOCATION:Miami Dade Wolfson Campus\, 300 NE 2nd Ave\, Miami\, FL\, 33131\, United States
END:VEVENT
END:VCALENDAR